BEGIN:VCALENDAR
VERSION:2.0
PRODID:-//SCHNITTSTELLE RELIGION. Eine Plattform der Goethe-Universität - ECPv6.15.14//NONSGML v1.0//EN
CALSCALE:GREGORIAN
METHOD:PUBLISH
X-WR-CALNAME:SCHNITTSTELLE RELIGION. Eine Plattform der Goethe-Universität
X-ORIGINAL-URL:https://schnittstelle-religion.uni-frankfurt.de
X-WR-CALDESC:Veranstaltungen für SCHNITTSTELLE RELIGION. Eine Plattform der Goethe-Universität
REFRESH-INTERVAL;VALUE=DURATION:PT1H
X-Robots-Tag:noindex
X-PUBLISHED-TTL:PT1H
BEGIN:VTIMEZONE
TZID:Europe/Berlin
BEGIN:DAYLIGHT
TZOFFSETFROM:+0100
TZOFFSETTO:+0200
TZNAME:CEST
DTSTART:20240331T010000
END:DAYLIGHT
BEGIN:STANDARD
TZOFFSETFROM:+0200
TZOFFSETTO:+0100
TZNAME:CET
DTSTART:20241027T010000
END:STANDARD
BEGIN:DAYLIGHT
TZOFFSETFROM:+0100
TZOFFSETTO:+0200
TZNAME:CEST
DTSTART:20250330T010000
END:DAYLIGHT
BEGIN:STANDARD
TZOFFSETFROM:+0200
TZOFFSETTO:+0100
TZNAME:CET
DTSTART:20251026T010000
END:STANDARD
BEGIN:DAYLIGHT
TZOFFSETFROM:+0100
TZOFFSETTO:+0200
TZNAME:CEST
DTSTART:20260329T010000
END:DAYLIGHT
BEGIN:STANDARD
TZOFFSETFROM:+0200
TZOFFSETTO:+0100
TZNAME:CET
DTSTART:20261025T010000
END:STANDARD
END:VTIMEZONE
BEGIN:VEVENT
DTSTART;TZID=Europe/Berlin:20250811T140000
DTEND;TZID=Europe/Berlin:20250811T170000
DTSTAMP:20260421T031744
CREATED:20250730T105525Z
LAST-MODIFIED:20250730T105527Z
UID:7769-1754920800-1754931600@schnittstelle-religion.uni-frankfurt.de
SUMMARY:Forschungswerkstatt empirische Religionsforschung
DESCRIPTION:Die Forschungswerkstatt ist ein offenes\, selbstorganisiertes Kolloquium für Doktorand:innen und Post-Docs\, die empirisch zu Themen gegenwärtiger Religion forschen. Sie bildet ein Forum für kollegialen Austausch zu methodischen Fragen\, Materialbesprechungen und Feedback.  \n\n\n\nDie Forschungswerkstatt ist offen für Interessierte aller Fachrichtungen. Um in den Verteiler aufgenommen zu werden\, melden Sie sich bitte bei wohlfart@em.uni-frankfurt.de. 
URL:https://schnittstelle-religion.uni-frankfurt.de/event/forschungswerkstatt-empirische-religionsforschung/
END:VEVENT
END:VCALENDAR