BEGIN:VCALENDAR
VERSION:2.0
PRODID:-//SCHNITTSTELLE RELIGION. Eine Plattform der Goethe-Universität - ECPv6.15.14//NONSGML v1.0//EN
CALSCALE:GREGORIAN
METHOD:PUBLISH
X-WR-CALNAME:SCHNITTSTELLE RELIGION. Eine Plattform der Goethe-Universität
X-ORIGINAL-URL:https://schnittstelle-religion.uni-frankfurt.de
X-WR-CALDESC:Veranstaltungen für SCHNITTSTELLE RELIGION. Eine Plattform der Goethe-Universität
REFRESH-INTERVAL;VALUE=DURATION:PT1H
X-Robots-Tag:noindex
X-PUBLISHED-TTL:PT1H
BEGIN:VTIMEZONE
TZID:Europe/Berlin
BEGIN:DAYLIGHT
TZOFFSETFROM:+0100
TZOFFSETTO:+0200
TZNAME:CEST
DTSTART:20240331T010000
END:DAYLIGHT
BEGIN:STANDARD
TZOFFSETFROM:+0200
TZOFFSETTO:+0100
TZNAME:CET
DTSTART:20241027T010000
END:STANDARD
BEGIN:DAYLIGHT
TZOFFSETFROM:+0100
TZOFFSETTO:+0200
TZNAME:CEST
DTSTART:20250330T010000
END:DAYLIGHT
BEGIN:STANDARD
TZOFFSETFROM:+0200
TZOFFSETTO:+0100
TZNAME:CET
DTSTART:20251026T010000
END:STANDARD
BEGIN:DAYLIGHT
TZOFFSETFROM:+0100
TZOFFSETTO:+0200
TZNAME:CEST
DTSTART:20260329T010000
END:DAYLIGHT
BEGIN:STANDARD
TZOFFSETFROM:+0200
TZOFFSETTO:+0100
TZNAME:CET
DTSTART:20261025T010000
END:STANDARD
END:VTIMEZONE
BEGIN:VEVENT
DTSTART;TZID=Europe/Berlin:20251105T170000
DTEND;TZID=Europe/Berlin:20251107T110000
DTSTAMP:20260425T220147
CREATED:20251103T141706Z
LAST-MODIFIED:20251103T141707Z
UID:9135-1762362000-1762513200@schnittstelle-religion.uni-frankfurt.de
SUMMARY:Memory in Digital Spaces
DESCRIPTION:Workshop der Forschungsgruppe „Islam und Digitalität“ \n\n\n\nDer Workshop stellt die Arbeiten der Forschungsgruppe vor und wird durch zwei Keynote-Vorträge von Christian Wiese zu „Jewish Post-Holocaust Philosophies: Challenges for a Jewish-Christian Discourse on Memory“ und Andrew Hoskins zu „Forgetting in the Digital and AI Era“ abgerundet.Der Workshop ist hybrid angelegt: alle Vorträge werden über Zoom übertragen\, die Einwahl erfolgt über den QR-Code im Flyer. Eine Anmeldung ist nicht erforderlich. \n\n\n\nWorkshop Memory Digital FlyerHerunterladen
URL:https://schnittstelle-religion.uni-frankfurt.de/event/memory-in-digital-spaces/
ATTACH;FMTTYPE=image/png:https://schnittstelle-religion.uni-frankfurt.de/wp-content/uploads/sites/4/2025/11/Islam_und_Digitaliaet.png
END:VEVENT
BEGIN:VEVENT
DTSTART;TZID=Europe/Berlin:20251106T161500
DTEND;TZID=Europe/Berlin:20251106T174500
DTSTAMP:20260425T220147
CREATED:20251015T140001Z
LAST-MODIFIED:20251103T144741Z
UID:7815-1762445700-1762451100@schnittstelle-religion.uni-frankfurt.de
SUMMARY:A Memory of Violence: John of Ephesus\, Guide to an Apocalypse. Vortrag von Christine Shepardson (Knoxville).
DESCRIPTION:Vortrag im Rahmen der Reihe „Byzanz in Mainz und Frankfurt“\n\n\n\n\n\nDie Vortragsreihe wird vom WissenschaftsCampus – Byzanz zwischen Orient und Okzident – Mainz/Frankfurt getragen\, einer seit 2011 bestehenden Kooperation zwischen dem Römisch-Germanischen Zentralmuseum/Leibniz-Zentrum für Archäologie und der Johannes Gutenberg-Universität\, die 2019 um die Goethe-Universität Frankfurt und das Leibniz-Institut für Europäische Geschichte erweitert wurde. Ziel ist es\, in enger interdisziplinärer Zusammenarbeit Forschungen zum Byzantinischen Reich\, seiner Geschichte\, Kultur\, Kunst und materiellen Hinterlassenschaft durchzuführen und den wissenschaftlichen Nachwuchs zu fördern. Die Vortragsreihe beleuchtet aktuelle Forschungsfragen und richtet sich sowohl an Fachleute wie auch die breite Öffentlichkeit. \n\n\n\nDie Veranstaltung findet online statt. Anmeldung bei eliano.veronesi@stud.uni-frankfurt.de \n\n\n\nByzanz in Mainz und Frankfurt_WS_2025-26-2Herunterladen
URL:https://schnittstelle-religion.uni-frankfurt.de/event/a-memory-of-violence-john-of-ephesus-guide-to-an-apocalypse-vortrag-von-christine-shepardson-knoxville/
END:VEVENT
END:VCALENDAR