BEGIN:VCALENDAR
VERSION:2.0
PRODID:-//SCHNITTSTELLE RELIGION. Eine Plattform der Goethe-Universität - ECPv6.15.14//NONSGML v1.0//EN
CALSCALE:GREGORIAN
METHOD:PUBLISH
X-WR-CALNAME:SCHNITTSTELLE RELIGION. Eine Plattform der Goethe-Universität
X-ORIGINAL-URL:https://schnittstelle-religion.uni-frankfurt.de
X-WR-CALDESC:Veranstaltungen für SCHNITTSTELLE RELIGION. Eine Plattform der Goethe-Universität
REFRESH-INTERVAL;VALUE=DURATION:PT1H
X-Robots-Tag:noindex
X-PUBLISHED-TTL:PT1H
BEGIN:VTIMEZONE
TZID:Europe/Berlin
BEGIN:DAYLIGHT
TZOFFSETFROM:+0100
TZOFFSETTO:+0200
TZNAME:CEST
DTSTART:20240331T010000
END:DAYLIGHT
BEGIN:STANDARD
TZOFFSETFROM:+0200
TZOFFSETTO:+0100
TZNAME:CET
DTSTART:20241027T010000
END:STANDARD
BEGIN:DAYLIGHT
TZOFFSETFROM:+0100
TZOFFSETTO:+0200
TZNAME:CEST
DTSTART:20250330T010000
END:DAYLIGHT
BEGIN:STANDARD
TZOFFSETFROM:+0200
TZOFFSETTO:+0100
TZNAME:CET
DTSTART:20251026T010000
END:STANDARD
BEGIN:DAYLIGHT
TZOFFSETFROM:+0100
TZOFFSETTO:+0200
TZNAME:CEST
DTSTART:20260329T010000
END:DAYLIGHT
BEGIN:STANDARD
TZOFFSETFROM:+0200
TZOFFSETTO:+0100
TZNAME:CET
DTSTART:20261025T010000
END:STANDARD
END:VTIMEZONE
BEGIN:VEVENT
DTSTART;TZID=Europe/Berlin:20251024T150000
DTEND;TZID=Europe/Berlin:20251025T190000
DTSTAMP:20260424T231525
CREATED:20251015T133703Z
LAST-MODIFIED:20251015T223749Z
UID:7806-1761318000-1761418800@schnittstelle-religion.uni-frankfurt.de
SUMMARY:Monastic Landscapes in Northern Mesopotamia in the 6th-10th Centuries
DESCRIPTION:The study of Chrisanity in northern Mesopotamia during the late Sasanian and early Islamic periods (6th-10th centuries)\, particularly within the context of monasticism\, offers critical insights into how Christian communities were shaped by the intersection of religious\, cultural\, and politcal dynamics. This era was characterized by significant religious diversity\, with Christian\, Jewish\, Zoroastrian\, Manichaean\, and Islamic communities coexisting in the region. \n\n\n\nNorthern Mesopotamia\, encompassing regions like the Tur Abdin plateau\, the Jazira plain\, and the upper and middle Tigris valley\, was a significant center of Christianity and monasticism. The region was home to numerous monastic communities that functioned not only as religious centers but also as hubs of religious education and cultural interaction. \n\n\n\nThe workshop will explore the archaeological\, architectural\, social\, and cultural dimensions of monascism and investigate the role of monasteries in shaping the socio-religious landscapes of northern Mesopotamia. The presentations of case studies\, along with the discussions that follow\, will contribute to a deeper understanding of the spatial organization\, communal life\, and broader societal impact of these monastic communities. Additonally\, the workshop aims to highlight the ways in which monasteries functioned as centers of religious practice\, education\, and cultural exchange\, providing new insights into the dynamics of interfaith interaction and the region’s historical development. \n\n\n\nWorkshop at the Goethe-Universität Frankfurt organized by Dr. Mustafa Ahmad (Goethe-University Frankfurt) and Prof. Alexander Pruß (Johannes-Gutenberg-University Mainz). \n\n\n\nRegistration until Ocotber 16th per e-mail to m.ahmad@em.uni-frankfurt.de \n\n\n\nProgramm
URL:https://schnittstelle-religion.uni-frankfurt.de/event/monastic-landscapes-in-northern-mesopotamia-in-the-6th-10th-centuries/
LOCATION:Goethe-Universität\, Campus Westend\, IG-Farben-Gebäude\, Raum IG 1.314\, Norbert-Wollheim-Platz 1\, Frankfurt am Main
ATTACH;FMTTYPE=image/jpeg:https://schnittstelle-religion.uni-frankfurt.de/wp-content/uploads/sites/4/2025/10/Monastic_Landscapes_of_Northern_mesopotamia_Poster-Announcement.jpg
END:VEVENT
END:VCALENDAR