BEGIN:VCALENDAR
VERSION:2.0
PRODID:-//SCHNITTSTELLE RELIGION. Eine Plattform der Goethe-Universität - ECPv6.15.14//NONSGML v1.0//EN
CALSCALE:GREGORIAN
METHOD:PUBLISH
X-WR-CALNAME:SCHNITTSTELLE RELIGION. Eine Plattform der Goethe-Universität
X-ORIGINAL-URL:https://schnittstelle-religion.uni-frankfurt.de
X-WR-CALDESC:Veranstaltungen für SCHNITTSTELLE RELIGION. Eine Plattform der Goethe-Universität
REFRESH-INTERVAL;VALUE=DURATION:PT1H
X-Robots-Tag:noindex
X-PUBLISHED-TTL:PT1H
BEGIN:VTIMEZONE
TZID:Europe/Berlin
BEGIN:DAYLIGHT
TZOFFSETFROM:+0100
TZOFFSETTO:+0200
TZNAME:CEST
DTSTART:20240331T010000
END:DAYLIGHT
BEGIN:STANDARD
TZOFFSETFROM:+0200
TZOFFSETTO:+0100
TZNAME:CET
DTSTART:20241027T010000
END:STANDARD
BEGIN:DAYLIGHT
TZOFFSETFROM:+0100
TZOFFSETTO:+0200
TZNAME:CEST
DTSTART:20250330T010000
END:DAYLIGHT
BEGIN:STANDARD
TZOFFSETFROM:+0200
TZOFFSETTO:+0100
TZNAME:CET
DTSTART:20251026T010000
END:STANDARD
BEGIN:DAYLIGHT
TZOFFSETFROM:+0100
TZOFFSETTO:+0200
TZNAME:CEST
DTSTART:20260329T010000
END:DAYLIGHT
BEGIN:STANDARD
TZOFFSETFROM:+0200
TZOFFSETTO:+0100
TZNAME:CET
DTSTART:20261025T010000
END:STANDARD
END:VTIMEZONE
BEGIN:VEVENT
DTSTART;TZID=Europe/Berlin:20251021T183000
DTEND;TZID=Europe/Berlin:20251021T210000
DTSTAMP:20260425T042019
CREATED:20251016T141534Z
LAST-MODIFIED:20251016T145059Z
UID:7867-1761071400-1761080400@schnittstelle-religion.uni-frankfurt.de
SUMMARY:Jiddische Musik neu arrangiert. Konzert des Ensemble Waks
DESCRIPTION:Das Konzert ist Teil der deutsch-französischen Tagung „Kunst in Lagern und Ghettos 1933–1945″\, die vom 21. bis 22. Oktober in Frankfurt stattfindet. \n\n\n\nWeiter Informationen zur Tagung gibt es hier. \n\n\n\nAnmeldung für das Konzert: ifra@institutfrancais.de
URL:https://schnittstelle-religion.uni-frankfurt.de/event/jiddische-musik-neu-arrangiert-konzert-des-ensemble-waks/
LOCATION:Goethe-Universität\, Campus Westend\, Casino-Gebäude\, Raum 1.801
ATTACH;FMTTYPE=image/jpeg:https://schnittstelle-religion.uni-frankfurt.de/wp-content/uploads/sites/4/2025/10/waks4_page-0001.jpg
END:VEVENT
END:VCALENDAR