BEGIN:VCALENDAR
VERSION:2.0
PRODID:-//SCHNITTSTELLE RELIGION. Eine Plattform der Goethe-Universität - ECPv6.15.14//NONSGML v1.0//EN
CALSCALE:GREGORIAN
METHOD:PUBLISH
X-WR-CALNAME:SCHNITTSTELLE RELIGION. Eine Plattform der Goethe-Universität
X-ORIGINAL-URL:https://schnittstelle-religion.uni-frankfurt.de
X-WR-CALDESC:Veranstaltungen für SCHNITTSTELLE RELIGION. Eine Plattform der Goethe-Universität
REFRESH-INTERVAL;VALUE=DURATION:PT1H
X-Robots-Tag:noindex
X-PUBLISHED-TTL:PT1H
BEGIN:VTIMEZONE
TZID:Europe/Berlin
BEGIN:DAYLIGHT
TZOFFSETFROM:+0100
TZOFFSETTO:+0200
TZNAME:CEST
DTSTART:20240331T010000
END:DAYLIGHT
BEGIN:STANDARD
TZOFFSETFROM:+0200
TZOFFSETTO:+0100
TZNAME:CET
DTSTART:20241027T010000
END:STANDARD
BEGIN:DAYLIGHT
TZOFFSETFROM:+0100
TZOFFSETTO:+0200
TZNAME:CEST
DTSTART:20250330T010000
END:DAYLIGHT
BEGIN:STANDARD
TZOFFSETFROM:+0200
TZOFFSETTO:+0100
TZNAME:CET
DTSTART:20251026T010000
END:STANDARD
BEGIN:DAYLIGHT
TZOFFSETFROM:+0100
TZOFFSETTO:+0200
TZNAME:CEST
DTSTART:20260329T010000
END:DAYLIGHT
BEGIN:STANDARD
TZOFFSETFROM:+0200
TZOFFSETTO:+0100
TZNAME:CET
DTSTART:20261025T010000
END:STANDARD
END:VTIMEZONE
BEGIN:VEVENT
DTSTART;TZID=Europe/Berlin:20250703T100000
DTEND;TZID=Europe/Berlin:20250703T140000
DTSTAMP:20260420T010003
CREATED:20250611T101231Z
LAST-MODIFIED:20250611T101531Z
UID:7686-1751536800-1751551200@schnittstelle-religion.uni-frankfurt.de
SUMMARY:Forschungslabor: Religion und Memekultur
DESCRIPTION:Religion und Ironie – wie passt das zusammen? Im Rahmen des Orientierungsstudiums widmen wir uns in diesem Forschungslabor Memes und ihren „Mixed Messages“ über und mit Religion. Lukas Sünder berichtet dabei aus der künstlerischen Praxis\, wie die Verbindung von Humor und Kirche Irritationen und Neues anstoßen kann. Im Labor erproben wir gemeinsam\, wie Memes aus der Perspektive medienbezogener Religionsforschung untersucht werden können. \n\n\n\nUm vorherige Anmeldung per Mail an wohlfart@em.uni-frankfurt.de wird gebeten.
URL:https://schnittstelle-religion.uni-frankfurt.de/event/forschungslabor-religion-und-memekultur/
LOCATION:Goethe-Universität\, Campus Westend\, IG-Nebengebäude\, NG 2.701\, Norbert-Wollheim-Platz 1\, Frankfurt am Main\, 60323
END:VEVENT
END:VCALENDAR