BEGIN:VCALENDAR
VERSION:2.0
PRODID:-//SCHNITTSTELLE RELIGION. Eine Plattform der Goethe-Universität - ECPv6.15.14//NONSGML v1.0//EN
CALSCALE:GREGORIAN
METHOD:PUBLISH
X-WR-CALNAME:SCHNITTSTELLE RELIGION. Eine Plattform der Goethe-Universität
X-ORIGINAL-URL:https://schnittstelle-religion.uni-frankfurt.de
X-WR-CALDESC:Veranstaltungen für SCHNITTSTELLE RELIGION. Eine Plattform der Goethe-Universität
REFRESH-INTERVAL;VALUE=DURATION:PT1H
X-Robots-Tag:noindex
X-PUBLISHED-TTL:PT1H
BEGIN:VTIMEZONE
TZID:Europe/Berlin
BEGIN:DAYLIGHT
TZOFFSETFROM:+0100
TZOFFSETTO:+0200
TZNAME:CEST
DTSTART:20220327T010000
END:DAYLIGHT
BEGIN:STANDARD
TZOFFSETFROM:+0200
TZOFFSETTO:+0100
TZNAME:CET
DTSTART:20221030T010000
END:STANDARD
BEGIN:DAYLIGHT
TZOFFSETFROM:+0100
TZOFFSETTO:+0200
TZNAME:CEST
DTSTART:20230326T010000
END:DAYLIGHT
BEGIN:STANDARD
TZOFFSETFROM:+0200
TZOFFSETTO:+0100
TZNAME:CET
DTSTART:20231029T010000
END:STANDARD
BEGIN:DAYLIGHT
TZOFFSETFROM:+0100
TZOFFSETTO:+0200
TZNAME:CEST
DTSTART:20240331T010000
END:DAYLIGHT
BEGIN:STANDARD
TZOFFSETFROM:+0200
TZOFFSETTO:+0100
TZNAME:CET
DTSTART:20241027T010000
END:STANDARD
END:VTIMEZONE
BEGIN:VEVENT
DTSTART;TZID=Europe/Berlin:20231214T180000
DTEND;TZID=Europe/Berlin:20231214T200000
DTSTAMP:20260424T091929
CREATED:20231022T203800Z
LAST-MODIFIED:20231101T110911Z
UID:4124-1702576800-1702584000@schnittstelle-religion.uni-frankfurt.de
SUMMARY:Online-Extremismus: Die unsichtbaren Schwestern – Frauen zwischen Extremismus\, Salafismus\, Islamismus und Aktivismus in der digitalen Welt. Vortrag von Margareta Wetchy und Meike Krämer (Violence Prevention Network)
DESCRIPTION:Die Digitalisierung erfasst inzwischen immer mehr Lebensbereiche und somit auch Religion in ihren vielen Facetten und Dimensionen. Die Ringvorlesung geht der Frage nach\, welche konkreten Auswirkungen die Digitalisierung in islamischen Kontexten hat\, und bringt hierfür Perspektiven aus der internationalen Forschung und Praxis zusammen. \n\n\n\nDie Online-Ringvorlesung organisiert von Armina Omerika\, Dr. Naime Çakır-Mattner und Ulrika Kilian. Zugang zur Online-Veranstaltung erhalten Sie hier. \n\n\n\nProgramm
URL:https://schnittstelle-religion.uni-frankfurt.de/event/online-extremismus-die-unsichtbaren-schwestern-frauen-zwischen-extremismus-salafismus-islamismus-und-aktivismus-in-der-digitalen-welt-vortrag-von-margareta-wetchy-und-meike-kraemer-viol/
ORGANIZER;CN="Zentrum f%C3%BCr Islamische Studien":MAILTO:u.kilian@em.uni-frankfurt.de
END:VEVENT
END:VCALENDAR