BEGIN:VCALENDAR
VERSION:2.0
PRODID:-//SCHNITTSTELLE RELIGION. Eine Plattform der Goethe-Universität - ECPv6.15.14//NONSGML v1.0//EN
CALSCALE:GREGORIAN
METHOD:PUBLISH
X-WR-CALNAME:SCHNITTSTELLE RELIGION. Eine Plattform der Goethe-Universität
X-ORIGINAL-URL:https://schnittstelle-religion.uni-frankfurt.de
X-WR-CALDESC:Veranstaltungen für SCHNITTSTELLE RELIGION. Eine Plattform der Goethe-Universität
REFRESH-INTERVAL;VALUE=DURATION:PT1H
X-Robots-Tag:noindex
X-PUBLISHED-TTL:PT1H
BEGIN:VTIMEZONE
TZID:Europe/Berlin
BEGIN:DAYLIGHT
TZOFFSETFROM:+0100
TZOFFSETTO:+0200
TZNAME:CEST
DTSTART:20220327T010000
END:DAYLIGHT
BEGIN:STANDARD
TZOFFSETFROM:+0200
TZOFFSETTO:+0100
TZNAME:CET
DTSTART:20221030T010000
END:STANDARD
BEGIN:DAYLIGHT
TZOFFSETFROM:+0100
TZOFFSETTO:+0200
TZNAME:CEST
DTSTART:20230326T010000
END:DAYLIGHT
BEGIN:STANDARD
TZOFFSETFROM:+0200
TZOFFSETTO:+0100
TZNAME:CET
DTSTART:20231029T010000
END:STANDARD
BEGIN:DAYLIGHT
TZOFFSETFROM:+0100
TZOFFSETTO:+0200
TZNAME:CEST
DTSTART:20240331T010000
END:DAYLIGHT
BEGIN:STANDARD
TZOFFSETFROM:+0200
TZOFFSETTO:+0100
TZNAME:CET
DTSTART:20241027T010000
END:STANDARD
END:VTIMEZONE
BEGIN:VEVENT
DTSTART;TZID=Europe/Berlin:20231205T160000
DTEND;TZID=Europe/Berlin:20231205T180000
DTSTAMP:20260420T090723
CREATED:20231114T150027Z
LAST-MODIFIED:20231114T150027Z
UID:4269-1701792000-1701799200@schnittstelle-religion.uni-frankfurt.de
SUMMARY:Religiöse Identitäten im Konflikt. Afrikanische und Europäische Herausforderungen
DESCRIPTION:Herausforderungen für christliche und muslimische Identitäten durch politische Kontexte in der Sahelzone ist Thema des Thi-Talks. Im Mittelpunkt steht die Situation in den Ländern der Sahel-Zone und die Frage danach\, wie ein christliches oder muslimisches Selbstverständnis zugleich auch als sahelisch gelten kann. Hierfür sind die traditionell-afrikanischen Religionen von grundlegender Bedeutung. \n\n\n\nDie sich hieraus ergebenden Fragen werden im Anschluss an den Vortrag des Thi-Gastprofessors Rodrigue Naortangar mit Blick auf religiöse Settings in verschiedenen europäischen Staaten diskutiert. Hierbei sollen insbesondere die politischen Problematiken von Ausschluss und Zugehörigkeit bzw. der Zunahme von Populismus\, Nationalismus\, Rassismus und Extremismus zur Sprache kommen. \n\n\n\nEin Gespräch zwischen Dr. Rodrigue M. Naortangar SJ (Institut de Théologie de la Compagnie de Jésus\, Abidjan/Côte d’Ivoire) und Prof. Dr. Bekim Agai (FB 09 – Professur für Kultur und Gesellschaft des Islam in Geschichte und Gegenwart) und Prof.in Dr. Armina Omerika (FB 09 – Professur für Ideengeschichte des Islam). \n\n\n\nDer Thi-Talk ist Teil des Programms „Theologie interkulturell“ des Fachbereichs 07. \n\n\n\nFlyer
URL:https://schnittstelle-religion.uni-frankfurt.de/event/religioese-identitaeten-im-konflikt-afrikanische-und-europaeische-herausforderungen/
LOCATION:Campus Westend\, IGF Farben-Haus\, Nebengebäude NG 1.731
ATTACH;FMTTYPE=image/jpeg:https://schnittstelle-religion.uni-frankfurt.de/wp-content/uploads/sites/4/2023/11/0001-scaled.jpg
ORGANIZER;CN="Fachbereich 07 %E2%80%93 Katholische Theologie":MAILTO:middelbeck@em.uni-frankfurt.de
END:VEVENT
BEGIN:VEVENT
DTSTART;TZID=Europe/Berlin:20231205T180000
DTEND;TZID=Europe/Berlin:20231205T200000
DTSTAMP:20260420T090723
CREATED:20231012T201755Z
LAST-MODIFIED:20231127T085410Z
UID:3863-1701799200-1701806400@schnittstelle-religion.uni-frankfurt.de
SUMMARY:Space and Religion in Amazonia: Cultural Contact and Its Influence on Jesuit Cartography. Vortrag von Irina Saladin (University of Koblenz)
DESCRIPTION:Wer ‚Religion‘ sagt\, sagt stets auch ‚Raum‘: In Kirchen\, Moscheen oder Synagogen verbinden sich Religion und Raum in offensichtlicher Weise\, die Raumgebundenheit von Religion aber ist bei Weitem nicht auf Architektur beschränkt. Die vielfältigen räumlichen Dimensionen von Christentümern in Mittelalter und Früher Neuzeit erkundet die Frankfurter Kollegforschungsgruppe ‚Polyzentrik und Pluralität vormoderner Christentümer‘ (POLY) in den Wintersemestern 2022/23 und 2023/24.  \n\n\n\nIn der POLY Lecture Series des Wintersemesters 2023/24 wollen wir beispielsweise ausloten\, inwiefern frühneuzeitliche Frömmigkeit auf private Rückzugsräume angewiesen war\, für wen Kirchen während der transatlantischen Versklavung Zufluchtsräume boten und wie in spätmittelalterlichen Stadträumen mit religiösen Praktiken extremer Wetter- und Klimaereignisse gedacht wurde. Und wir wollen auch abstrakte Räume nicht aus dem Blick verlieren\, wenn wir uns etwa dafür interessieren\, was die proportionale Darstellung von Menschen und Objekten im Raum mit reformatorischen Bildprogrammen zu tun hat. Dabei beschäftigt uns immer auch\, welche Raumvorstellungen sich bewusst oder unhinterfragt im geschichtswissenschaftlichen Verständnis von Religion niedergeschlagen haben und wie sie die Art und Weise prägen\, wie bis heute Religionsgeschichte geschrieben wird. \n\n\n\nDiese Veranstaltung kann in Präsenz oder online besucht werden. Für die Online-Teilnahme melden Sie sich bitte unter folgender E-Mail an: info@poly-unifrankfurt.de
URL:https://schnittstelle-religion.uni-frankfurt.de/event/space-and-religion-in-amazonia-cultural-contact-and-its-influence-on-jesuit-cartography-vortraege-von-irina-saladin-university-of-koblenz/
LOCATION:Campus Westend\, Seminarhaus SH 1.108 & Zoom
ATTACH;FMTTYPE=image/jpeg:https://schnittstelle-religion.uni-frankfurt.de/wp-content/uploads/sites/4/2023/10/Poster-Uebersicht_POLY-Lectures_WinterTerm-2023-24-scaled.jpg
ORGANIZER;CN="DFG-Kollegforschungsgruppe %E2%80%9EPolyzentrik und Pluralit%C3%A4t vormoderner Christent%C3%BCmer%E2%80%9C":MAILTO:pluralchristianities@em.uni-frankfurt.de
END:VEVENT
END:VCALENDAR