BEGIN:VCALENDAR
VERSION:2.0
PRODID:-//SCHNITTSTELLE RELIGION. Eine Plattform der Goethe-Universität - ECPv6.15.14//NONSGML v1.0//EN
CALSCALE:GREGORIAN
METHOD:PUBLISH
X-WR-CALNAME:SCHNITTSTELLE RELIGION. Eine Plattform der Goethe-Universität
X-ORIGINAL-URL:https://schnittstelle-religion.uni-frankfurt.de
X-WR-CALDESC:Veranstaltungen für SCHNITTSTELLE RELIGION. Eine Plattform der Goethe-Universität
REFRESH-INTERVAL;VALUE=DURATION:PT1H
X-Robots-Tag:noindex
X-PUBLISHED-TTL:PT1H
BEGIN:VTIMEZONE
TZID:Europe/Berlin
BEGIN:DAYLIGHT
TZOFFSETFROM:+0100
TZOFFSETTO:+0200
TZNAME:CEST
DTSTART:20220327T010000
END:DAYLIGHT
BEGIN:STANDARD
TZOFFSETFROM:+0200
TZOFFSETTO:+0100
TZNAME:CET
DTSTART:20221030T010000
END:STANDARD
BEGIN:DAYLIGHT
TZOFFSETFROM:+0100
TZOFFSETTO:+0200
TZNAME:CEST
DTSTART:20230326T010000
END:DAYLIGHT
BEGIN:STANDARD
TZOFFSETFROM:+0200
TZOFFSETTO:+0100
TZNAME:CET
DTSTART:20231029T010000
END:STANDARD
BEGIN:DAYLIGHT
TZOFFSETFROM:+0100
TZOFFSETTO:+0200
TZNAME:CEST
DTSTART:20240331T010000
END:DAYLIGHT
BEGIN:STANDARD
TZOFFSETFROM:+0200
TZOFFSETTO:+0100
TZNAME:CET
DTSTART:20241027T010000
END:STANDARD
END:VTIMEZONE
BEGIN:VEVENT
DTSTART;TZID=Europe/Berlin:20230313T123000
DTEND;TZID=Europe/Berlin:20230315T130000
DTSTAMP:20260425T200726
CREATED:20230310T112033Z
LAST-MODIFIED:20230313T134924Z
UID:2270-1678710600-1678885200@schnittstelle-religion.uni-frankfurt.de
SUMMARY:Über das Verhältnis von Christentum\, Judentum und Staat im 19. Jahrhundert. Manifestationen in Künsten\, Theologie und Gesellschaft
DESCRIPTION:3. Tagung des interdisziplinären DFG-Netzwerks „Religion im PLural“\n\n\n\n\n\nDas DFG-Netzwerk »RELIGION IM PLURAL« untersucht in interdisziplinärer Perspektive\, wie die zunehmende religiöse Differenzierung im langen 19. Jahrhundert in bildender Kunst\, Musik\, Architektur\, Theologien\, religiöser Praxis und gesellschaftlichen Institutionen gestaltet\, artikuliert und gedeutet wurde. Religion wird sowohl als institutionell-kollektive wie auch als spirituell-individualisierte Religiosität verstanden\, wobei sie nicht nur auf den Rahmen der katholischen und protestantischen Kirchen und des Judentums beschränkt bleibt\, sondern auch hinsichtlich anderer religiöser\, philosophischer und weltanschaulicher Formationen perspektiviert wird. Die Expertisen der 16 Mitglieder liegen in der Musikwissenschaft\, Kunstgeschichte und Literaturwissenschaft\, evangelischer und katholischer Theologie sowie Jewish Studies. \n\n\n\nProgramm\n\n\n\n\n\n\n\nin Kooperation mit \n\n\n\nInstitut für Kunstgeschichte und Musikwissenschaftder Johannes Gutenberg-Universität Mainz\, Buber-Rosenzweig-Institut für jüdische Geistes-und Kulturgeschichte der Moderne und Gegenwartder Goethe-Universität Frankfurt am Main\,Professur für Religionspädagogikder Goethe-Universität Frankfurt am Main\, Forschungsverbund »Dynamiken des Religiösen«\, Universitätsbibliothek Johann Christian Senckenberg Frankfurt am Main\, Jüdisches Museum Frankfurt\,Städel Museum
URL:https://schnittstelle-religion.uni-frankfurt.de/event/religion-im-plural-wahrnehmung-religioeser-differenzierung-im-spiegel-der-kuenste-theologien-und-gesellschaft-im-langen-19-jahrhundert/
ATTACH;FMTTYPE=image/png:https://schnittstelle-religion.uni-frankfurt.de/wp-content/uploads/sites/4/2023/03/Religion_im_Plural.png
END:VEVENT
END:VCALENDAR