BEGIN:VCALENDAR
VERSION:2.0
PRODID:-//SCHNITTSTELLE RELIGION. Eine Plattform der Goethe-Universität - ECPv6.15.14//NONSGML v1.0//EN
CALSCALE:GREGORIAN
METHOD:PUBLISH
X-WR-CALNAME:SCHNITTSTELLE RELIGION. Eine Plattform der Goethe-Universität
X-ORIGINAL-URL:https://schnittstelle-religion.uni-frankfurt.de
X-WR-CALDESC:Veranstaltungen für SCHNITTSTELLE RELIGION. Eine Plattform der Goethe-Universität
REFRESH-INTERVAL;VALUE=DURATION:PT1H
X-Robots-Tag:noindex
X-PUBLISHED-TTL:PT1H
BEGIN:VTIMEZONE
TZID:Europe/Berlin
BEGIN:DAYLIGHT
TZOFFSETFROM:+0100
TZOFFSETTO:+0200
TZNAME:CEST
DTSTART:20210328T010000
END:DAYLIGHT
BEGIN:STANDARD
TZOFFSETFROM:+0200
TZOFFSETTO:+0100
TZNAME:CET
DTSTART:20211031T010000
END:STANDARD
BEGIN:DAYLIGHT
TZOFFSETFROM:+0100
TZOFFSETTO:+0200
TZNAME:CEST
DTSTART:20220327T010000
END:DAYLIGHT
BEGIN:STANDARD
TZOFFSETFROM:+0200
TZOFFSETTO:+0100
TZNAME:CET
DTSTART:20221030T010000
END:STANDARD
BEGIN:DAYLIGHT
TZOFFSETFROM:+0100
TZOFFSETTO:+0200
TZNAME:CEST
DTSTART:20230326T010000
END:DAYLIGHT
BEGIN:STANDARD
TZOFFSETFROM:+0200
TZOFFSETTO:+0100
TZNAME:CET
DTSTART:20231029T010000
END:STANDARD
BEGIN:DAYLIGHT
TZOFFSETFROM:+0100
TZOFFSETTO:+0200
TZNAME:CEST
DTSTART:20240331T010000
END:DAYLIGHT
BEGIN:STANDARD
TZOFFSETFROM:+0200
TZOFFSETTO:+0100
TZNAME:CET
DTSTART:20241027T010000
END:STANDARD
END:VTIMEZONE
BEGIN:VEVENT
DTSTART;TZID=Europe/Berlin:20221025T181500
DTEND;TZID=Europe/Berlin:20230207T194500
DTSTAMP:20260420T092547
CREATED:20230224T163743Z
LAST-MODIFIED:20230224T163836Z
UID:2138-1666721700-1675799100@schnittstelle-religion.uni-frankfurt.de
SUMMARY:Space and Religion
DESCRIPTION:Vorlesungsreihe der Forschungsgruppe POLY\, Wintersemester 22/23 \n\n\n\nDer sogenannte „Spatial Turn“\, also die geistes- und sozialwissenschaftliche Hinwendung zum Raum als kultureller Größe\, hat in der Geschichtswissenschaft das Bewusstsein dafür geschärft\, dass auch religiöse Gemeinschaften im Raum verortet waren. Die Veranstaltungsreihe geht unter anderem Fragen danach nach\, wie religiöse Akteure der Frühen Neuzeit Räume wahrnahmen\, wie sich ihre Vorstellungen unterschieden und wie Migration\, Exil und transatlantische Kontakte darauf rückwirkten. In den Blick kommen dabei vielfältigen Regionen\, die sich von Griechenland über den Donauraum und die Ukraine bis nach China erstrecken. \n\n\n\nProgramm
URL:https://schnittstelle-religion.uni-frankfurt.de/event/space-and-religion/
ATTACH;FMTTYPE=image/png:https://schnittstelle-religion.uni-frankfurt.de/wp-content/uploads/sites/4/2023/02/Space_Religion-726x1024-1.png
ORGANIZER;CN="POLY-1":MAILTO:pluralchristianities@em.uni-frankfurt.de
END:VEVENT
BEGIN:VEVENT
DTSTART;TZID=Europe/Berlin:20221219T000000
DTEND;TZID=Europe/Berlin:20221220T235959
DTSTAMP:20260420T092547
CREATED:20221207T160023Z
LAST-MODIFIED:20221207T161905Z
UID:978-1671408000-1671580799@schnittstelle-religion.uni-frankfurt.de
SUMMARY:Thinking Interreligiously: The Many Faces of Interreligious Interaction
DESCRIPTION:Internationale Konferenz anlässlich der Eröffnung des Frankfurt-Tel Aviv Centers\, Tel Aviv\, 19. bis 20. Dezember 2022 \n\n\n\nDie Konferenz bildet die offizielle Eröffnung des „Frankfurt-Tel Aviv Center for the Study of Religious and Interreligious Dynamics“\, eines gemeinsamen Forschungsinstitut der Goethe-Universität und der Tel Aviv University. Im Rahmen der Konferenz steht die Diskussion des gemeinsamen Forschungskonzepts im Vordergrund. Es beruht auf der Annahme\, dass sich Judentum\, Christentum und Islam in ihrer Geschichte in enger Verflechtung miteinander entwickelt haben und deshalb nur unter ständiger Berücksichtigung ihres realen und imaginierten\, bewussten oder unbewussten Dialoges erforscht werden können. \n\n\n\nProgramm\n\n\n\n\n\nOrganisatoren \n\n\n\n\n\n\n\n\n\n\n\n\n\n\n\nOrt
URL:https://schnittstelle-religion.uni-frankfurt.de/event/thinking-interreligiously-the-many-faces-of-interreligious-interaction/
LOCATION:Tel Aviv University
ATTACH;FMTTYPE=image/png:https://schnittstelle-religion.uni-frankfurt.de/wp-content/uploads/sites/4/2022/12/Frankfurt_Tel_Aviv.png
END:VEVENT
END:VCALENDAR